BEGIN:VCALENDAR
VERSION:2.0
PRODID:-//Vetenskapskarnevalen //NONSGML Events //EN
CALSCALE:GREGORIAN
X-WR-CALNAME:Vetenskapskarnevalen
BEGIN:VEVENT
CREATED:20210907T133657Z
UID:1398
DTEND;VALUE=DATE:19700101T030000Z
DTSTART;VALUE=DATE:20260420T095954Z
DTSTAMP:20260420T065954Z
LOCATION:
DESCRIPTION:
SUMMARY:Talus, Kim
ORGANIZER:Vetenskapskarnevalen
URL;VALUE=URI:https://vetenskapskarnevalen.fi/sv/medverkare/talus-kim/
TRANSP:OPAQUE
BEGIN:VALARM
ACTION:DISPLAY
TRIGGER;VALUE=DATE-TIME:19700101T030000Z
DESCRIPTION:Reminder for Talus\, Kim
END:VALARM
END:VEVENT
END:VCALENDAR
	