BEGIN:VCALENDAR
VERSION:2.0
PRODID:-//Vetenskapskarnevalen //NONSGML Events //EN
CALSCALE:GREGORIAN
X-WR-CALNAME:Vetenskapskarnevalen
BEGIN:VEVENT
CREATED:20210907T133759Z
UID:1401
DTEND;VALUE=DATE:19700101T030000Z
DTSTART;VALUE=DATE:20260420T095519Z
DTSTAMP:20260420T065519Z
LOCATION:
DESCRIPTION:
SUMMARY:Kaisanlahti, Timo
ORGANIZER:Vetenskapskarnevalen
URL;VALUE=URI:https://vetenskapskarnevalen.fi/sv/medverkare/kaisanlahti-timo/
TRANSP:OPAQUE
BEGIN:VALARM
ACTION:DISPLAY
TRIGGER;VALUE=DATE-TIME:19700101T030000Z
DESCRIPTION:Reminder for Kaisanlahti\, Timo
END:VALARM
END:VEVENT
END:VCALENDAR
	