BEGIN:VCALENDAR
VERSION:2.0
PRODID:-//Vetenskapskarnevalen //NONSGML Events //EN
CALSCALE:GREGORIAN
X-WR-CALNAME:Vetenskapskarnevalen
BEGIN:VEVENT
CREATED:20210907T133816Z
UID:1402
DTEND;VALUE=DATE:19700101T030000Z
DTSTART;VALUE=DATE:20260420T095453Z
DTSTAMP:20260420T065453Z
LOCATION:
DESCRIPTION:
SUMMARY:Keskitalo, Kristian
ORGANIZER:Vetenskapskarnevalen
URL;VALUE=URI:https://vetenskapskarnevalen.fi/sv/medverkare/keskitalo-kristian/
TRANSP:OPAQUE
BEGIN:VALARM
ACTION:DISPLAY
TRIGGER;VALUE=DATE-TIME:19700101T030000Z
DESCRIPTION:Reminder for Keskitalo\, Kristian
END:VALARM
END:VEVENT
END:VCALENDAR
	