BEGIN:VCALENDAR
VERSION:2.0
PRODID:-//Vetenskapskarnevalen //NONSGML Events //EN
CALSCALE:GREGORIAN
X-WR-CALNAME:Vetenskapskarnevalen
BEGIN:VEVENT
CREATED:20210908T090154Z
UID:1448
DTEND;VALUE=DATE:19700101T030000Z
DTSTART;VALUE=DATE:20260420T082003Z
DTSTAMP:20260420T052003Z
LOCATION:
DESCRIPTION:
SUMMARY:Villstrand, Nils Erik
ORGANIZER:Vetenskapskarnevalen
URL;VALUE=URI:https://vetenskapskarnevalen.fi/sv/medverkare/osterlund-mia/
TRANSP:OPAQUE
BEGIN:VALARM
ACTION:DISPLAY
TRIGGER;VALUE=DATE-TIME:19700101T030000Z
DESCRIPTION:Reminder for Villstrand\, Nils Erik
END:VALARM
END:VEVENT
END:VCALENDAR
	