BEGIN:VCALENDAR
VERSION:2.0
PRODID:-//Vetenskapskarnevalen //NONSGML Events //EN
CALSCALE:GREGORIAN
X-WR-CALNAME:Vetenskapskarnevalen
BEGIN:VEVENT
CREATED:20210908T090228Z
UID:1449
DTEND;VALUE=DATE:19700101T030000Z
DTSTART;VALUE=DATE:20260420T081202Z
DTSTAMP:20260420T051202Z
LOCATION:
DESCRIPTION:
SUMMARY:Kuvaja, Christer
ORGANIZER:Vetenskapskarnevalen
URL;VALUE=URI:https://vetenskapskarnevalen.fi/sv/medverkare/kuvaja-christer/
TRANSP:OPAQUE
BEGIN:VALARM
ACTION:DISPLAY
TRIGGER;VALUE=DATE-TIME:19700101T030000Z
DESCRIPTION:Reminder for Kuvaja\, Christer
END:VALARM
END:VEVENT
END:VCALENDAR
	