BEGIN:VCALENDAR
VERSION:2.0
PRODID:-//Vetenskapskarnevalen //NONSGML Events //EN
CALSCALE:GREGORIAN
X-WR-CALNAME:Vetenskapskarnevalen
BEGIN:VEVENT
CREATED:20210908T091237Z
UID:1451
DTEND;VALUE=DATE:19700101T030000Z
DTSTART;VALUE=DATE:20260420T081506Z
DTSTAMP:20260420T051506Z
LOCATION:
DESCRIPTION:
SUMMARY:Henriksson, Blanka
ORGANIZER:Vetenskapskarnevalen
URL;VALUE=URI:https://vetenskapskarnevalen.fi/sv/medverkare/henriksson-blanka/
TRANSP:OPAQUE
BEGIN:VALARM
ACTION:DISPLAY
TRIGGER;VALUE=DATE-TIME:19700101T030000Z
DESCRIPTION:Reminder for Henriksson\, Blanka
END:VALARM
END:VEVENT
END:VCALENDAR
	