BEGIN:VCALENDAR
VERSION:2.0
PRODID:-//Vetenskapskarnevalen //NONSGML Events //EN
CALSCALE:GREGORIAN
X-WR-CALNAME:Vetenskapskarnevalen
BEGIN:VEVENT
CREATED:20210908T091315Z
UID:1453
DTEND;VALUE=DATE:19700101T030000Z
DTSTART;VALUE=DATE:20260420T081945Z
DTSTAMP:20260420T051945Z
LOCATION:
DESCRIPTION:
SUMMARY:Österlund-Pötzsch, Susanne
ORGANIZER:Vetenskapskarnevalen
URL;VALUE=URI:https://vetenskapskarnevalen.fi/sv/medverkare/osterlund-potzsch-susanne/
TRANSP:OPAQUE
BEGIN:VALARM
ACTION:DISPLAY
TRIGGER;VALUE=DATE-TIME:19700101T030000Z
DESCRIPTION:Reminder for Österlund-Pötzsch\, Susanne
END:VALARM
END:VEVENT
END:VCALENDAR
	