BEGIN:VCALENDAR
VERSION:2.0
PRODID:-//Vetenskapskarnevalen //NONSGML Events //EN
CALSCALE:GREGORIAN
X-WR-CALNAME:Vetenskapskarnevalen
BEGIN:VEVENT
CREATED:20210908T091447Z
UID:1459
DTEND;VALUE=DATE:19700101T030000Z
DTSTART;VALUE=DATE:20260420T062439Z
DTSTAMP:20260420T032439Z
LOCATION:
DESCRIPTION:
SUMMARY:Strandén-Backa, Sofie
ORGANIZER:Vetenskapskarnevalen
URL;VALUE=URI:https://vetenskapskarnevalen.fi/sv/medverkare/stranden-backa-sofie/
TRANSP:OPAQUE
BEGIN:VALARM
ACTION:DISPLAY
TRIGGER;VALUE=DATE-TIME:19700101T030000Z
DESCRIPTION:Reminder for Strandén-Backa\, Sofie
END:VALARM
END:VEVENT
END:VCALENDAR
	