BEGIN:VCALENDAR
VERSION:2.0
PRODID:-//Vetenskapskarnevalen //NONSGML Events //EN
CALSCALE:GREGORIAN
X-WR-CALNAME:Vetenskapskarnevalen
BEGIN:VEVENT
CREATED:20210908T091554Z
UID:1463
DTEND;VALUE=DATE:19700101T030000Z
DTSTART;VALUE=DATE:20260420T062516Z
DTSTAMP:20260420T032516Z
LOCATION:
DESCRIPTION:
SUMMARY:Tidigs, Julia
ORGANIZER:Vetenskapskarnevalen
URL;VALUE=URI:https://vetenskapskarnevalen.fi/sv/medverkare/tidigs-julia/
TRANSP:OPAQUE
BEGIN:VALARM
ACTION:DISPLAY
TRIGGER;VALUE=DATE-TIME:19700101T030000Z
DESCRIPTION:Reminder for Tidigs\, Julia
END:VALARM
END:VEVENT
END:VCALENDAR
	