BEGIN:VCALENDAR
VERSION:2.0
PRODID:-//Vetenskapskarnevalen //NONSGML Events //EN
CALSCALE:GREGORIAN
X-WR-CALNAME:Vetenskapskarnevalen
BEGIN:VEVENT
CREATED:20210908T102410Z
UID:1476
DTEND;VALUE=DATE:19700101T030000Z
DTSTART;VALUE=DATE:20260420T050116Z
DTSTAMP:20260420T020116Z
LOCATION:
DESCRIPTION:
SUMMARY:Koskinen, Ossi
ORGANIZER:Vetenskapskarnevalen
URL;VALUE=URI:https://vetenskapskarnevalen.fi/sv/medverkare/koskinen-ossi/
TRANSP:OPAQUE
BEGIN:VALARM
ACTION:DISPLAY
TRIGGER;VALUE=DATE-TIME:19700101T030000Z
DESCRIPTION:Reminder for Koskinen\, Ossi
END:VALARM
END:VEVENT
END:VCALENDAR
	