BEGIN:VCALENDAR
VERSION:2.0
PRODID:-//Vetenskapskarnevalen //NONSGML Events //EN
CALSCALE:GREGORIAN
X-WR-CALNAME:Vetenskapskarnevalen
BEGIN:VEVENT
CREATED:20210908T102424Z
UID:1477
DTEND;VALUE=DATE:19700101T030000Z
DTSTART;VALUE=DATE:20260420T045817Z
DTSTAMP:20260420T015817Z
LOCATION:
DESCRIPTION:
SUMMARY:Niemistö, Riku
ORGANIZER:Vetenskapskarnevalen
URL;VALUE=URI:https://vetenskapskarnevalen.fi/sv/medverkare/niemisto-riku/
TRANSP:OPAQUE
BEGIN:VALARM
ACTION:DISPLAY
TRIGGER;VALUE=DATE-TIME:19700101T030000Z
DESCRIPTION:Reminder for Niemistö\, Riku
END:VALARM
END:VEVENT
END:VCALENDAR
	