BEGIN:VCALENDAR
VERSION:2.0
PRODID:-//Vetenskapskarnevalen //NONSGML Events //EN
CALSCALE:GREGORIAN
X-WR-CALNAME:Vetenskapskarnevalen
BEGIN:VEVENT
CREATED:20210908T102515Z
UID:1480
DTEND;VALUE=DATE:19700101T030000Z
DTSTART;VALUE=DATE:20260420T050518Z
DTSTAMP:20260420T020518Z
LOCATION:
DESCRIPTION:
SUMMARY:Norrgård, Kenneth
ORGANIZER:Vetenskapskarnevalen
URL;VALUE=URI:https://vetenskapskarnevalen.fi/sv/medverkare/norrgard-kenneth/
TRANSP:OPAQUE
BEGIN:VALARM
ACTION:DISPLAY
TRIGGER;VALUE=DATE-TIME:19700101T030000Z
DESCRIPTION:Reminder for Norrgård\, Kenneth
END:VALARM
END:VEVENT
END:VCALENDAR
	