BEGIN:VCALENDAR
VERSION:2.0
PRODID:-//Vetenskapskarnevalen //NONSGML Events //EN
CALSCALE:GREGORIAN
X-WR-CALNAME:Vetenskapskarnevalen
BEGIN:VEVENT
CREATED:20210908T123408Z
UID:1523
DTEND;VALUE=DATE:19700101T030000Z
DTSTART;VALUE=DATE:20260420T045941Z
DTSTAMP:20260420T015941Z
LOCATION:
DESCRIPTION:
SUMMARY:Alander, Jarmo
ORGANIZER:Vetenskapskarnevalen
URL;VALUE=URI:https://vetenskapskarnevalen.fi/sv/medverkare/alander-jarmo/
TRANSP:OPAQUE
BEGIN:VALARM
ACTION:DISPLAY
TRIGGER;VALUE=DATE-TIME:19700101T030000Z
DESCRIPTION:Reminder for Alander\, Jarmo
END:VALARM
END:VEVENT
END:VCALENDAR
	