BEGIN:VCALENDAR
VERSION:2.0
PRODID:-//Vetenskapskarnevalen //NONSGML Events //EN
CALSCALE:GREGORIAN
X-WR-CALNAME:Vetenskapskarnevalen
BEGIN:VEVENT
CREATED:20210908T123740Z
UID:1530
DTEND;VALUE=DATE:19700101T030000Z
DTSTART;VALUE=DATE:20260420T032321Z
DTSTAMP:20260420T002321Z
LOCATION:
DESCRIPTION:
SUMMARY:Koljonen, Janne
ORGANIZER:Vetenskapskarnevalen
URL;VALUE=URI:https://vetenskapskarnevalen.fi/sv/medverkare/koljonen-janne/
TRANSP:OPAQUE
BEGIN:VALARM
ACTION:DISPLAY
TRIGGER;VALUE=DATE-TIME:19700101T030000Z
DESCRIPTION:Reminder for Koljonen\, Janne
END:VALARM
END:VEVENT
END:VCALENDAR
	