BEGIN:VCALENDAR
VERSION:2.0
PRODID:-//Vetenskapskarnevalen //NONSGML Events //EN
CALSCALE:GREGORIAN
X-WR-CALNAME:Vetenskapskarnevalen
BEGIN:VEVENT
CREATED:20210908T123855Z
UID:1534
DTEND;VALUE=DATE:19700101T030000Z
DTSTART;VALUE=DATE:20260420T031645Z
DTSTAMP:20260420T001645Z
LOCATION:
DESCRIPTION:
SUMMARY:Järlström, Maria
ORGANIZER:Vetenskapskarnevalen
URL;VALUE=URI:https://vetenskapskarnevalen.fi/sv/medverkare/jarlstrom-maria/
TRANSP:OPAQUE
BEGIN:VALARM
ACTION:DISPLAY
TRIGGER;VALUE=DATE-TIME:19700101T030000Z
DESCRIPTION:Reminder for Järlström\, Maria
END:VALARM
END:VEVENT
END:VCALENDAR
	