BEGIN:VCALENDAR
VERSION:2.0
PRODID:-//Vetenskapskarnevalen //NONSGML Events //EN
CALSCALE:GREGORIAN
X-WR-CALNAME:Vetenskapskarnevalen
BEGIN:VEVENT
CREATED:20210908T123918Z
UID:1535
DTEND;VALUE=DATE:19700101T030000Z
DTSTART;VALUE=DATE:20260420T031510Z
DTSTAMP:20260420T001510Z
LOCATION:
DESCRIPTION:
SUMMARY:Suutari, Vesa
ORGANIZER:Vetenskapskarnevalen
URL;VALUE=URI:https://vetenskapskarnevalen.fi/sv/medverkare/suutari-vesa/
TRANSP:OPAQUE
BEGIN:VALARM
ACTION:DISPLAY
TRIGGER;VALUE=DATE-TIME:19700101T030000Z
DESCRIPTION:Reminder for Suutari\, Vesa
END:VALARM
END:VEVENT
END:VCALENDAR
	