BEGIN:VCALENDAR
VERSION:2.0
PRODID:-//Vetenskapskarnevalen //NONSGML Events //EN
CALSCALE:GREGORIAN
X-WR-CALNAME:Vetenskapskarnevalen
BEGIN:VEVENT
CREATED:20210908T123959Z
UID:1537
DTEND;VALUE=DATE:19700101T030000Z
DTSTART;VALUE=DATE:20260420T032501Z
DTSTAMP:20260420T002501Z
LOCATION:
DESCRIPTION:
SUMMARY:Mäkelä, Maarit
ORGANIZER:Vetenskapskarnevalen
URL;VALUE=URI:https://vetenskapskarnevalen.fi/sv/medverkare/makela-maarit/
TRANSP:OPAQUE
BEGIN:VALARM
ACTION:DISPLAY
TRIGGER;VALUE=DATE-TIME:19700101T030000Z
DESCRIPTION:Reminder for Mäkelä\, Maarit
END:VALARM
END:VEVENT
END:VCALENDAR
	