BEGIN:VCALENDAR
VERSION:2.0
PRODID:-//Vetenskapskarnevalen //NONSGML Events //EN
CALSCALE:GREGORIAN
X-WR-CALNAME:Vetenskapskarnevalen
BEGIN:VEVENT
CREATED:20210908T124050Z
UID:1539
DTEND;VALUE=DATE:19700101T030000Z
DTSTART;VALUE=DATE:20260420T032511Z
DTSTAMP:20260420T002511Z
LOCATION:
DESCRIPTION:
SUMMARY:Pernaa, Hanna-Kaisa
ORGANIZER:Vetenskapskarnevalen
URL;VALUE=URI:https://vetenskapskarnevalen.fi/sv/medverkare/pernaa-hanna-kaisa/
TRANSP:OPAQUE
BEGIN:VALARM
ACTION:DISPLAY
TRIGGER;VALUE=DATE-TIME:19700101T030000Z
DESCRIPTION:Reminder for Pernaa\, Hanna-Kaisa
END:VALARM
END:VEVENT
END:VCALENDAR
	