BEGIN:VCALENDAR
VERSION:2.0
PRODID:-//Vetenskapskarnevalen //NONSGML Events //EN
CALSCALE:GREGORIAN
X-WR-CALNAME:Vetenskapskarnevalen
BEGIN:VEVENT
CREATED:20210908T124208Z
UID:1543
DTEND;VALUE=DATE:19700101T030000Z
DTSTART;VALUE=DATE:20260420T014606Z
DTSTAMP:20260419T224606Z
LOCATION:
DESCRIPTION:
SUMMARY:Cisneros Chavira, Pablo
ORGANIZER:Vetenskapskarnevalen
URL;VALUE=URI:https://vetenskapskarnevalen.fi/sv/medverkare/cisneros-chavira-pablo/
TRANSP:OPAQUE
BEGIN:VALARM
ACTION:DISPLAY
TRIGGER;VALUE=DATE-TIME:19700101T030000Z
DESCRIPTION:Reminder for Cisneros Chavira\, Pablo
END:VALARM
END:VEVENT
END:VCALENDAR
	