BEGIN:VCALENDAR
VERSION:2.0
PRODID:-//Vetenskapskarnevalen //NONSGML Events //EN
CALSCALE:GREGORIAN
X-WR-CALNAME:Vetenskapskarnevalen
BEGIN:VEVENT
CREATED:20210908T141624Z
UID:1568
DTEND;VALUE=DATE:19700101T030000Z
DTSTART;VALUE=DATE:20260420T015255Z
DTSTAMP:20260419T225255Z
LOCATION:
DESCRIPTION:
SUMMARY:Enell-Nilsson, Mona
ORGANIZER:Vetenskapskarnevalen
URL;VALUE=URI:https://vetenskapskarnevalen.fi/sv/medverkare/enell-nilsson-mona/
TRANSP:OPAQUE
BEGIN:VALARM
ACTION:DISPLAY
TRIGGER;VALUE=DATE-TIME:19700101T030000Z
DESCRIPTION:Reminder for Enell-Nilsson\, Mona
END:VALARM
END:VEVENT
END:VCALENDAR
	