BEGIN:VCALENDAR
VERSION:2.0
PRODID:-//Vetenskapskarnevalen //NONSGML Events //EN
CALSCALE:GREGORIAN
X-WR-CALNAME:Vetenskapskarnevalen
BEGIN:VEVENT
CREATED:20210908T141648Z
UID:1569
DTEND;VALUE=DATE:19700101T030000Z
DTSTART;VALUE=DATE:20260420T014249Z
DTSTAMP:20260419T224249Z
LOCATION:
DESCRIPTION:
SUMMARY:Leipämaa-Leskinen, Hanna
ORGANIZER:Vetenskapskarnevalen
URL;VALUE=URI:https://vetenskapskarnevalen.fi/sv/medverkare/leipamaa-leskinen-hanna/
TRANSP:OPAQUE
BEGIN:VALARM
ACTION:DISPLAY
TRIGGER;VALUE=DATE-TIME:19700101T030000Z
DESCRIPTION:Reminder for Leipämaa-Leskinen\, Hanna
END:VALARM
END:VEVENT
END:VCALENDAR
	