BEGIN:VCALENDAR
VERSION:2.0
PRODID:-//Vetenskapskarnevalen //NONSGML Events //EN
CALSCALE:GREGORIAN
X-WR-CALNAME:Vetenskapskarnevalen
BEGIN:VEVENT
CREATED:20210908T141813Z
UID:1573
DTEND;VALUE=DATE:19700101T030000Z
DTSTART;VALUE=DATE:20260420T015054Z
DTSTAMP:20260419T225054Z
LOCATION:
DESCRIPTION:
SUMMARY:Galkina, Tamara
ORGANIZER:Vetenskapskarnevalen
URL;VALUE=URI:https://vetenskapskarnevalen.fi/sv/medverkare/galkina-tamara/
TRANSP:OPAQUE
BEGIN:VALARM
ACTION:DISPLAY
TRIGGER;VALUE=DATE-TIME:19700101T030000Z
DESCRIPTION:Reminder for Galkina\, Tamara
END:VALARM
END:VEVENT
END:VCALENDAR
	