BEGIN:VCALENDAR
VERSION:2.0
PRODID:-//Vetenskapskarnevalen //NONSGML Events //EN
CALSCALE:GREGORIAN
X-WR-CALNAME:Vetenskapskarnevalen
BEGIN:VEVENT
CREATED:20210908T141929Z
UID:1577
DTEND;VALUE=DATE:19700101T030000Z
DTSTART;VALUE=DATE:20260420T001446Z
DTSTAMP:20260419T211446Z
LOCATION:
DESCRIPTION:
SUMMARY:Koskela, Merja
ORGANIZER:Vetenskapskarnevalen
URL;VALUE=URI:https://vetenskapskarnevalen.fi/sv/medverkare/koskela-merja/
TRANSP:OPAQUE
BEGIN:VALARM
ACTION:DISPLAY
TRIGGER;VALUE=DATE-TIME:19700101T030000Z
DESCRIPTION:Reminder for Koskela\, Merja
END:VALARM
END:VEVENT
END:VCALENDAR
	