BEGIN:VCALENDAR
VERSION:2.0
PRODID:-//Vetenskapskarnevalen //NONSGML Events //EN
CALSCALE:GREGORIAN
X-WR-CALNAME:Vetenskapskarnevalen
BEGIN:VEVENT
CREATED:20210908T141949Z
UID:1578
DTEND;VALUE=DATE:19700101T030000Z
DTSTART;VALUE=DATE:20260420T001133Z
DTSTAMP:20260419T211133Z
LOCATION:
DESCRIPTION:
SUMMARY:Kääntä, Liisa
ORGANIZER:Vetenskapskarnevalen
URL;VALUE=URI:https://vetenskapskarnevalen.fi/sv/medverkare/kaanta-liisa/
TRANSP:OPAQUE
BEGIN:VALARM
ACTION:DISPLAY
TRIGGER;VALUE=DATE-TIME:19700101T030000Z
DESCRIPTION:Reminder for Kääntä\, Liisa
END:VALARM
END:VEVENT
END:VCALENDAR
	