BEGIN:VCALENDAR
VERSION:2.0
PRODID:-//Vetenskapskarnevalen //NONSGML Events //EN
CALSCALE:GREGORIAN
X-WR-CALNAME:Vetenskapskarnevalen
BEGIN:VEVENT
CREATED:20210909T122311Z
UID:1610
DTEND;VALUE=DATE:19700101T030000Z
DTSTART;VALUE=DATE:20260420T001110Z
DTSTAMP:20260419T211110Z
LOCATION:
DESCRIPTION:
SUMMARY:Engström-Öst, Jonna
ORGANIZER:Vetenskapskarnevalen
URL;VALUE=URI:https://vetenskapskarnevalen.fi/sv/medverkare/engstrom-ost-jonna/
TRANSP:OPAQUE
BEGIN:VALARM
ACTION:DISPLAY
TRIGGER;VALUE=DATE-TIME:19700101T030000Z
DESCRIPTION:Reminder for Engström-Öst\, Jonna
END:VALARM
END:VEVENT
END:VCALENDAR
	