BEGIN:VCALENDAR
VERSION:2.0
PRODID:-//Vetenskapskarnevalen //NONSGML Events //EN
CALSCALE:GREGORIAN
X-WR-CALNAME:Vetenskapskarnevalen
BEGIN:VEVENT
CREATED:20210909T122331Z
UID:1611
DTEND;VALUE=DATE:19700101T030000Z
DTSTART;VALUE=DATE:20260420T001145Z
DTSTAMP:20260419T211145Z
LOCATION:
DESCRIPTION:
SUMMARY:Granfors, Mats
ORGANIZER:Vetenskapskarnevalen
URL;VALUE=URI:https://vetenskapskarnevalen.fi/sv/medverkare/granfors-mats/
TRANSP:OPAQUE
BEGIN:VALARM
ACTION:DISPLAY
TRIGGER;VALUE=DATE-TIME:19700101T030000Z
DESCRIPTION:Reminder for Granfors\, Mats
END:VALARM
END:VEVENT
END:VCALENDAR
	