BEGIN:VCALENDAR
VERSION:2.0
PRODID:-//Vetenskapskarnevalen //NONSGML Events //EN
CALSCALE:GREGORIAN
X-WR-CALNAME:Vetenskapskarnevalen
BEGIN:VEVENT
CREATED:20210909T122348Z
UID:1612
DTEND;VALUE=DATE:19700101T030000Z
DTSTART;VALUE=DATE:20260420T001651Z
DTSTAMP:20260419T211651Z
LOCATION:
DESCRIPTION:
SUMMARY:Björk, Cecilia
ORGANIZER:Vetenskapskarnevalen
URL;VALUE=URI:https://vetenskapskarnevalen.fi/sv/medverkare/bjork-cecilia/
TRANSP:OPAQUE
BEGIN:VALARM
ACTION:DISPLAY
TRIGGER;VALUE=DATE-TIME:19700101T030000Z
DESCRIPTION:Reminder for Björk\, Cecilia
END:VALARM
END:VEVENT
END:VCALENDAR
	