BEGIN:VCALENDAR
VERSION:2.0
PRODID:-//Vetenskapskarnevalen //NONSGML Events //EN
CALSCALE:GREGORIAN
X-WR-CALNAME:Vetenskapskarnevalen
BEGIN:VEVENT
CREATED:20210909T122437Z
UID:1614
DTEND;VALUE=DATE:19700101T030000Z
DTSTART;VALUE=DATE:20260419T224357Z
DTSTAMP:20260419T194357Z
LOCATION:
DESCRIPTION:
SUMMARY:Norrback, Märtha
ORGANIZER:Vetenskapskarnevalen
URL;VALUE=URI:https://vetenskapskarnevalen.fi/sv/medverkare/norrback-martha/
TRANSP:OPAQUE
BEGIN:VALARM
ACTION:DISPLAY
TRIGGER;VALUE=DATE-TIME:19700101T030000Z
DESCRIPTION:Reminder for Norrback\, Märtha
END:VALARM
END:VEVENT
END:VCALENDAR
	