BEGIN:VCALENDAR
VERSION:2.0
PRODID:-//Vetenskapskarnevalen //NONSGML Events //EN
CALSCALE:GREGORIAN
X-WR-CALNAME:Vetenskapskarnevalen
BEGIN:VEVENT
CREATED:20210909T122459Z
UID:1615
DTEND;VALUE=DATE:19700101T030000Z
DTSTART;VALUE=DATE:20260419T223518Z
DTSTAMP:20260419T193518Z
LOCATION:
DESCRIPTION:
SUMMARY:Sundqvist, Kenny
ORGANIZER:Vetenskapskarnevalen
URL;VALUE=URI:https://vetenskapskarnevalen.fi/sv/medverkare/sundqvist-kenny/
TRANSP:OPAQUE
BEGIN:VALARM
ACTION:DISPLAY
TRIGGER;VALUE=DATE-TIME:19700101T030000Z
DESCRIPTION:Reminder for Sundqvist\, Kenny
END:VALARM
END:VEVENT
END:VCALENDAR
	