BEGIN:VCALENDAR
VERSION:2.0
PRODID:-//Vetenskapskarnevalen //NONSGML Events //EN
CALSCALE:GREGORIAN
X-WR-CALNAME:Vetenskapskarnevalen
BEGIN:VEVENT
CREATED:20210909T122628Z
UID:1620
DTEND;VALUE=DATE:19700101T030000Z
DTSTART;VALUE=DATE:20260419T223334Z
DTSTAMP:20260419T193334Z
LOCATION:
DESCRIPTION:
SUMMARY:Långvik, Otto
ORGANIZER:Vetenskapskarnevalen
URL;VALUE=URI:https://vetenskapskarnevalen.fi/sv/medverkare/langvik-otto/
TRANSP:OPAQUE
BEGIN:VALARM
ACTION:DISPLAY
TRIGGER;VALUE=DATE-TIME:19700101T030000Z
DESCRIPTION:Reminder for Långvik\, Otto
END:VALARM
END:VEVENT
END:VCALENDAR
	