BEGIN:VCALENDAR
VERSION:2.0
PRODID:-//Vetenskapskarnevalen //NONSGML Events //EN
CALSCALE:GREGORIAN
X-WR-CALNAME:Vetenskapskarnevalen
BEGIN:VEVENT
CREATED:20210909T122707Z
UID:1623
DTEND;VALUE=DATE:19700101T030000Z
DTSTART;VALUE=DATE:20260419T223859Z
DTSTAMP:20260419T193859Z
LOCATION:
DESCRIPTION:
SUMMARY:Westergård, Nanette
ORGANIZER:Vetenskapskarnevalen
URL;VALUE=URI:https://vetenskapskarnevalen.fi/sv/medverkare/westergard-nanette/
TRANSP:OPAQUE
BEGIN:VALARM
ACTION:DISPLAY
TRIGGER;VALUE=DATE-TIME:19700101T030000Z
DESCRIPTION:Reminder for Westergård\, Nanette
END:VALARM
END:VEVENT
END:VCALENDAR
	