BEGIN:VCALENDAR
VERSION:2.0
PRODID:-//Vetenskapskarnevalen //NONSGML Events //EN
CALSCALE:GREGORIAN
X-WR-CALNAME:Vetenskapskarnevalen
BEGIN:VEVENT
CREATED:20210909T122752Z
UID:1625
DTEND;VALUE=DATE:19700101T030000Z
DTSTART;VALUE=DATE:20260419T224023Z
DTSTAMP:20260419T194023Z
LOCATION:
DESCRIPTION:
SUMMARY:Westö, Johan
ORGANIZER:Vetenskapskarnevalen
URL;VALUE=URI:https://vetenskapskarnevalen.fi/sv/medverkare/westo-johan/
TRANSP:OPAQUE
BEGIN:VALARM
ACTION:DISPLAY
TRIGGER;VALUE=DATE-TIME:19700101T030000Z
DESCRIPTION:Reminder for Westö\, Johan
END:VALARM
END:VEVENT
END:VCALENDAR
	