BEGIN:VCALENDAR
VERSION:2.0
PRODID:-//Vetenskapskarnevalen //NONSGML Events //EN
CALSCALE:GREGORIAN
X-WR-CALNAME:Vetenskapskarnevalen
BEGIN:VEVENT
CREATED:20210909T122935Z
UID:1630
DTEND;VALUE=DATE:19700101T030000Z
DTSTART;VALUE=DATE:20260419T211918Z
DTSTAMP:20260419T181918Z
LOCATION:
DESCRIPTION:
SUMMARY:Sourander, Håkan
ORGANIZER:Vetenskapskarnevalen
URL;VALUE=URI:https://vetenskapskarnevalen.fi/sv/medverkare/sourander-hakan/
TRANSP:OPAQUE
BEGIN:VALARM
ACTION:DISPLAY
TRIGGER;VALUE=DATE-TIME:19700101T030000Z
DESCRIPTION:Reminder for Sourander\, Håkan
END:VALARM
END:VEVENT
END:VCALENDAR
	