BEGIN:VCALENDAR
VERSION:2.0
PRODID:-//Vetenskapskarnevalen //NONSGML Events //EN
CALSCALE:GREGORIAN
X-WR-CALNAME:Vetenskapskarnevalen
BEGIN:VEVENT
CREATED:20210909T123039Z
UID:1633
DTEND;VALUE=DATE:19700101T030000Z
DTSTART;VALUE=DATE:20260419T211705Z
DTSTAMP:20260419T181705Z
LOCATION:
DESCRIPTION:
SUMMARY:Backman, Ann
ORGANIZER:Vetenskapskarnevalen
URL;VALUE=URI:https://vetenskapskarnevalen.fi/sv/medverkare/backman-ann/
TRANSP:OPAQUE
BEGIN:VALARM
ACTION:DISPLAY
TRIGGER;VALUE=DATE-TIME:19700101T030000Z
DESCRIPTION:Reminder for Backman\, Ann
END:VALARM
END:VEVENT
END:VCALENDAR
	