BEGIN:VCALENDAR
VERSION:2.0
PRODID:-//Vetenskapskarnevalen //NONSGML Events //EN
CALSCALE:GREGORIAN
X-WR-CALNAME:Vetenskapskarnevalen
BEGIN:VEVENT
CREATED:20210914T091832Z
UID:1700
DTEND;VALUE=DATE:19700101T030000Z
DTSTART;VALUE=DATE:20260419T211801Z
DTSTAMP:20260419T181801Z
LOCATION:
DESCRIPTION:
SUMMARY:Acquah, Emmanuel
ORGANIZER:Vetenskapskarnevalen
URL;VALUE=URI:https://vetenskapskarnevalen.fi/sv/medverkare/acquah-emmanuel/
TRANSP:OPAQUE
BEGIN:VALARM
ACTION:DISPLAY
TRIGGER;VALUE=DATE-TIME:19700101T030000Z
DESCRIPTION:Reminder for Acquah\, Emmanuel
END:VALARM
END:VEVENT
END:VCALENDAR
	