BEGIN:VCALENDAR
VERSION:2.0
PRODID:-//Vetenskapskarnevalen //NONSGML Events //EN
CALSCALE:GREGORIAN
X-WR-CALNAME:Vetenskapskarnevalen
BEGIN:VEVENT
CREATED:20210914T093210Z
UID:1720
DTEND;VALUE=DATE:19700101T030000Z
DTSTART;VALUE=DATE:20260419T193336Z
DTSTAMP:20260419T163336Z
LOCATION:
DESCRIPTION:
SUMMARY:Backholm-Nyberg, Yvonne
ORGANIZER:Vetenskapskarnevalen
URL;VALUE=URI:https://vetenskapskarnevalen.fi/sv/medverkare/backholm-nyberg-yvonne/
TRANSP:OPAQUE
BEGIN:VALARM
ACTION:DISPLAY
TRIGGER;VALUE=DATE-TIME:19700101T030000Z
DESCRIPTION:Reminder for Backholm-Nyberg\, Yvonne
END:VALARM
END:VEVENT
END:VCALENDAR
	