BEGIN:VCALENDAR
VERSION:2.0
PRODID:-//Vetenskapskarnevalen //NONSGML Events //EN
CALSCALE:GREGORIAN
X-WR-CALNAME:Vetenskapskarnevalen
BEGIN:VEVENT
CREATED:20210914T094407Z
UID:1756
DTEND;VALUE=DATE:19700101T030000Z
DTSTART;VALUE=DATE:20260419T194409Z
DTSTAMP:20260419T164409Z
LOCATION:
DESCRIPTION:
SUMMARY:Björkholm, Johanna
ORGANIZER:Vetenskapskarnevalen
URL;VALUE=URI:https://vetenskapskarnevalen.fi/sv/medverkare/bjorkholm-johanna/
TRANSP:OPAQUE
BEGIN:VALARM
ACTION:DISPLAY
TRIGGER;VALUE=DATE-TIME:19700101T030000Z
DESCRIPTION:Reminder for Björkholm\, Johanna
END:VALARM
END:VEVENT
END:VCALENDAR
	