BEGIN:VCALENDAR
VERSION:2.0
PRODID:-//Vetenskapskarnevalen //NONSGML Events //EN
CALSCALE:GREGORIAN
X-WR-CALNAME:Vetenskapskarnevalen
BEGIN:VEVENT
CREATED:20210914T094951Z
UID:1772
DTEND;VALUE=DATE:19700101T030000Z
DTSTART;VALUE=DATE:20260419T193448Z
DTSTAMP:20260419T163448Z
LOCATION:
DESCRIPTION:
SUMMARY:Dahl-Tallgren, Nina
ORGANIZER:Vetenskapskarnevalen
URL;VALUE=URI:https://vetenskapskarnevalen.fi/sv/medverkare/dahl-tallgren-nina/
TRANSP:OPAQUE
BEGIN:VALARM
ACTION:DISPLAY
TRIGGER;VALUE=DATE-TIME:19700101T030000Z
DESCRIPTION:Reminder for Dahl-Tallgren\, Nina
END:VALARM
END:VEVENT
END:VCALENDAR
	