BEGIN:VCALENDAR
VERSION:2.0
PRODID:-//Vetenskapskarnevalen //NONSGML Events //EN
CALSCALE:GREGORIAN
X-WR-CALNAME:Vetenskapskarnevalen
BEGIN:VEVENT
CREATED:20210914T095251Z
UID:1780
DTEND;VALUE=DATE:19700101T030000Z
DTSTART;VALUE=DATE:20260419T180236Z
DTSTAMP:20260419T150236Z
LOCATION:
DESCRIPTION:
SUMMARY:De Blasio, Cataldo
ORGANIZER:Vetenskapskarnevalen
URL;VALUE=URI:https://vetenskapskarnevalen.fi/sv/medverkare/de-blasio-cataldo/
TRANSP:OPAQUE
BEGIN:VALARM
ACTION:DISPLAY
TRIGGER;VALUE=DATE-TIME:19700101T030000Z
DESCRIPTION:Reminder for De Blasio\, Cataldo
END:VALARM
END:VEVENT
END:VCALENDAR
	