BEGIN:VCALENDAR
VERSION:2.0
PRODID:-//Vetenskapskarnevalen //NONSGML Events //EN
CALSCALE:GREGORIAN
X-WR-CALNAME:Vetenskapskarnevalen
BEGIN:VEVENT
CREATED:20210914T100618Z
UID:1821
DTEND;VALUE=DATE:19700101T030000Z
DTSTART;VALUE=DATE:20260419T175753Z
DTSTAMP:20260419T145753Z
LOCATION:
DESCRIPTION:
SUMMARY:Haagensen, Jenny
ORGANIZER:Vetenskapskarnevalen
URL;VALUE=URI:https://vetenskapskarnevalen.fi/sv/medverkare/haagensen-jenny/
TRANSP:OPAQUE
BEGIN:VALARM
ACTION:DISPLAY
TRIGGER;VALUE=DATE-TIME:19700101T030000Z
DESCRIPTION:Reminder for Haagensen\, Jenny
END:VALARM
END:VEVENT
END:VCALENDAR
	