BEGIN:VCALENDAR
VERSION:2.0
PRODID:-//Vetenskapskarnevalen //NONSGML Events //EN
CALSCALE:GREGORIAN
X-WR-CALNAME:Vetenskapskarnevalen
BEGIN:VEVENT
CREATED:20210914T101114Z
UID:1827
DTEND;VALUE=DATE:19700101T030000Z
DTSTART;VALUE=DATE:20260419T180606Z
DTSTAMP:20260419T150606Z
LOCATION:
DESCRIPTION:
SUMMARY:Heilä-Ylikallio, Ria
ORGANIZER:Vetenskapskarnevalen
URL;VALUE=URI:https://vetenskapskarnevalen.fi/sv/medverkare/heila-ylikallio-ria/
TRANSP:OPAQUE
BEGIN:VALARM
ACTION:DISPLAY
TRIGGER;VALUE=DATE-TIME:19700101T030000Z
DESCRIPTION:Reminder for Heilä-Ylikallio\, Ria
END:VALARM
END:VEVENT
END:VCALENDAR
	