BEGIN:VCALENDAR
VERSION:2.0
PRODID:-//Vetenskapskarnevalen //NONSGML Events //EN
CALSCALE:GREGORIAN
X-WR-CALNAME:Vetenskapskarnevalen
BEGIN:VEVENT
CREATED:20210914T101208Z
UID:1829
DTEND;VALUE=DATE:19700101T030000Z
DTSTART;VALUE=DATE:20260419T180813Z
DTSTAMP:20260419T150813Z
LOCATION:
DESCRIPTION:
SUMMARY:Heinonen, Vesa
ORGANIZER:Vetenskapskarnevalen
URL;VALUE=URI:https://vetenskapskarnevalen.fi/sv/medverkare/heinonen-vesa/
TRANSP:OPAQUE
BEGIN:VALARM
ACTION:DISPLAY
TRIGGER;VALUE=DATE-TIME:19700101T030000Z
DESCRIPTION:Reminder for Heinonen\, Vesa
END:VALARM
END:VEVENT
END:VCALENDAR
	