BEGIN:VCALENDAR
VERSION:2.0
PRODID:-//Vetenskapskarnevalen //NONSGML Events //EN
CALSCALE:GREGORIAN
X-WR-CALNAME:Vetenskapskarnevalen
BEGIN:VEVENT
CREATED:20210914T102043Z
UID:1844
DTEND;VALUE=DATE:19700101T030000Z
DTSTART;VALUE=DATE:20260419T175900Z
DTSTAMP:20260419T145900Z
LOCATION:
DESCRIPTION:
SUMMARY:Höglund, Heidi
ORGANIZER:Vetenskapskarnevalen
URL;VALUE=URI:https://vetenskapskarnevalen.fi/sv/medverkare/hoglund-heidi/
TRANSP:OPAQUE
BEGIN:VALARM
ACTION:DISPLAY
TRIGGER;VALUE=DATE-TIME:19700101T030000Z
DESCRIPTION:Reminder for Höglund\, Heidi
END:VALARM
END:VEVENT
END:VCALENDAR
	