BEGIN:VCALENDAR
VERSION:2.0
PRODID:-//Vetenskapskarnevalen //NONSGML Events //EN
CALSCALE:GREGORIAN
X-WR-CALNAME:Vetenskapskarnevalen
BEGIN:VEVENT
CREATED:20210914T104406Z
UID:1861
DTEND;VALUE=DATE:19700101T030000Z
DTSTART;VALUE=DATE:20260419T175749Z
DTSTAMP:20260419T145749Z
LOCATION:
DESCRIPTION:
SUMMARY:Karv, Thomas
ORGANIZER:Vetenskapskarnevalen
URL;VALUE=URI:https://vetenskapskarnevalen.fi/sv/medverkare/karv-thomas/
TRANSP:OPAQUE
BEGIN:VALARM
ACTION:DISPLAY
TRIGGER;VALUE=DATE-TIME:19700101T030000Z
DESCRIPTION:Reminder for Karv\, Thomas
END:VALARM
END:VEVENT
END:VCALENDAR
	