BEGIN:VCALENDAR
VERSION:2.0
PRODID:-//Vetenskapskarnevalen //NONSGML Events //EN
CALSCALE:GREGORIAN
X-WR-CALNAME:Vetenskapskarnevalen
BEGIN:VEVENT
CREATED:20210914T111314Z
UID:1906
DTEND;VALUE=DATE:19700101T030000Z
DTSTART;VALUE=DATE:20260419T163043Z
DTSTAMP:20260419T133043Z
LOCATION:
DESCRIPTION:
SUMMARY:Majors, Joachim
ORGANIZER:Vetenskapskarnevalen
URL;VALUE=URI:https://vetenskapskarnevalen.fi/sv/medverkare/majors-joachim/
TRANSP:OPAQUE
BEGIN:VALARM
ACTION:DISPLAY
TRIGGER;VALUE=DATE-TIME:19700101T030000Z
DESCRIPTION:Reminder for Majors\, Joachim
END:VALARM
END:VEVENT
END:VCALENDAR
	