BEGIN:VCALENDAR
VERSION:2.0
PRODID:-//Vetenskapskarnevalen //NONSGML Events //EN
CALSCALE:GREGORIAN
X-WR-CALNAME:Vetenskapskarnevalen
BEGIN:VEVENT
CREATED:20210914T112105Z
UID:1924
DTEND;VALUE=DATE:19700101T030000Z
DTSTART;VALUE=DATE:20260419T161840Z
DTSTAMP:20260419T131840Z
LOCATION:
DESCRIPTION:
SUMMARY:Nordmyr, Johanna
ORGANIZER:Vetenskapskarnevalen
URL;VALUE=URI:https://vetenskapskarnevalen.fi/sv/medverkare/nordmyr-johanna/
TRANSP:OPAQUE
BEGIN:VALARM
ACTION:DISPLAY
TRIGGER;VALUE=DATE-TIME:19700101T030000Z
DESCRIPTION:Reminder for Nordmyr\, Johanna
END:VALARM
END:VEVENT
END:VCALENDAR
	