BEGIN:VCALENDAR
VERSION:2.0
PRODID:-//Vetenskapskarnevalen //NONSGML Events //EN
CALSCALE:GREGORIAN
X-WR-CALNAME:Vetenskapskarnevalen
BEGIN:VEVENT
CREATED:20210914T114536Z
UID:1972
DTEND;VALUE=DATE:19700101T030000Z
DTSTART;VALUE=DATE:20260419T145037Z
DTSTAMP:20260419T115037Z
LOCATION:
DESCRIPTION:
SUMMARY:Räsänen, Matti
ORGANIZER:Vetenskapskarnevalen
URL;VALUE=URI:https://vetenskapskarnevalen.fi/sv/medverkare/rasanen-matti/
TRANSP:OPAQUE
BEGIN:VALARM
ACTION:DISPLAY
TRIGGER;VALUE=DATE-TIME:19700101T030000Z
DESCRIPTION:Reminder for Räsänen\, Matti
END:VALARM
END:VEVENT
END:VCALENDAR
	