BEGIN:VCALENDAR
VERSION:2.0
PRODID:-//Vetenskapskarnevalen //NONSGML Events //EN
CALSCALE:GREGORIAN
X-WR-CALNAME:Vetenskapskarnevalen
BEGIN:VEVENT
CREATED:20210914T115043Z
UID:1980
DTEND;VALUE=DATE:19700101T030000Z
DTSTART;VALUE=DATE:20260419T145629Z
DTSTAMP:20260419T115629Z
LOCATION:
DESCRIPTION:
SUMMARY:Sjöblom, Stefan
ORGANIZER:Vetenskapskarnevalen
URL;VALUE=URI:https://vetenskapskarnevalen.fi/sv/medverkare/sjoholm-stefan/
TRANSP:OPAQUE
BEGIN:VALARM
ACTION:DISPLAY
TRIGGER;VALUE=DATE-TIME:19700101T030000Z
DESCRIPTION:Reminder for Sjöblom\, Stefan
END:VALARM
END:VEVENT
END:VCALENDAR
	